Workbook

Sheet Details
A1: Datum | B1: Opbrengst panelen | C1: Injectie dag | D1: Injectie nacht | E1: Verbruik dag | F1: Verbruik nacht | G1: Eigen verbruik | H1: Eigen verbruik (%) | I1: Injectie met batterij dag | J1: Injectie met batterij nacht | K1: Eigen verbruik met batterij | L1: Eigen Verbruik met batterij (%) | M1: Verbruik met batterij dag | N1: Verbruik met batterij nacht
A2: 43831 | B2: 2.56 | C2: 1.075 | D2: 0 | E2: 3.461 | F2: 3.389 | G2: =B2-C2-D2 -> 1.485 | H2: =G2/B2 -> 0.58007812 | I2: =MAX(0,C2-E2-Rekenwaarden!$B$1) -> 0 | J2: =MAX(0,D2-F2-Rekenwaarden!$B$1) -> 0 | K2: =B2-I2-J2 -> 2.56 | L2: =K2/B2 -> 1 | M2: =MAX(0,_xlfn.IFS(K2<Rekenwaarden!$B$1,E2-K2,K2>=Rekenwaarden!$B$1,E2-K2)) -> 0.901 | N2: =MAX(0,_xlfn.IFS(K2<Rekenwaarden!$B$1,F2,K2>=Rekenwaarden!$B$1,(K2-G2-E2-F2)*-1)) -> 3.389
A3: 43832 | B3: 0.74 | C3: 0 | D3: 0 | E3: 8.831 | F3: 3.306 | G3: =B3-C3-D3 -> 0.74 | H3: =G3/B3 -> 1 | I3: =MAX(0,C3-E3-Rekenwaarden!$B$1) -> 0 | J3: =MAX(0,D3-F3-Rekenwaarden!$B$1) -> 0 | K3: =B3-I3-J3 -> 0.74 | L3: =K3/B3 -> 1 | M3: =MAX(0,_xlfn.IFS(K3<Rekenwaarden!$B$1,E3-K3,K3>=Rekenwaarden!$B$1,E3-K3)) -> 8.091 | N3: =MAX(0,_xlfn.IFS(K3<Rekenwaarden!$B$1,F3,K3>=Rekenwaarden!$B$1,(K3-G3-E3-F3)*-1)) -> 3.306
A4: 43833 | B4: 0.66 | C4: 0.016 | D4: 0 | E4: 9.685 | F4: 4.291 | G4: =B4-C4-D4 -> 0.644 | H4: =G4/B4 -> 0.97575758 | I4: =MAX(0,C4-E4-Rekenwaarden!$B$1) -> 0 | J4: =MAX(0,D4-F4-Rekenwaarden!$B$1) -> 0 | K4: =B4-I4-J4 -> 0.66 | L4: =K4/B4 -> 1 | M4: =MAX(0,_xlfn.IFS(K4<Rekenwaarden!$B$1,E4-K4,K4>=Rekenwaarden!$B$1,E4-K4)) -> 9.025 | N4: =MAX(0,_xlfn.IFS(K4<Rekenwaarden!$B$1,F4,K4>=Rekenwaarden!$B$1,(K4-G4-E4-F4)*-1)) -> 4.291
A5: 43834 | B5: 8.95 | C5: 0 | D5: 5.667 | E5: 0 | F5: 17.649 | G5: =B5-C5-D5 -> 3.283 | H5: =G5/B5 -> 0.36681564 | I5: =MAX(0,C5-E5-Rekenwaarden!$B$1) -> 0 | J5: =MAX(0,D5-F5-Rekenwaarden!$B$1) -> 0 | K5: =B5-I5-J5 -> 8.95 | L5: =K5/B5 -> 1 | M5: =MAX(0,_xlfn.IFS(K5<Rekenwaarden!$B$1,E5-K5,K5>=Rekenwaarden!$B$1,E5-K5)) -> 0 | N5: =MAX(0,_xlfn.IFS(K5<Rekenwaarden!$B$1,F5,K5>=Rekenwaarden!$B$1,(K5-G5-E5-F5)*-1)) -> 11.982
A6: 43835 | B6: 0.63 | C6: 0 | D6: 0 | E6: 0 | F6: 22.039 | G6: =B6-C6-D6 -> 0.63 | H6: =G6/B6 -> 1 | I6: =MAX(0,C6-E6-Rekenwaarden!$B$1) -> 0 | J6: =MAX(0,D6-F6-Rekenwaarden!$B$1) -> 0 | K6: =B6-I6-J6 -> 0.63 | L6: =K6/B6 -> 1 | M6: =MAX(0,_xlfn.IFS(K6<Rekenwaarden!$B$1,E6-K6,K6>=Rekenwaarden!$B$1,E6-K6)) -> 0 | N6: =MAX(0,_xlfn.IFS(K6<Rekenwaarden!$B$1,F6,K6>=Rekenwaarden!$B$1,(K6-G6-E6-F6)*-1)) -> 22.039
A7: 43836 | B7: 21.81 | C7: 19.596 | D7: 0 | E7: 6.082 | F7: 3.646 | G7: =B7-C7-D7 -> 2.214 | H7: =G7/B7 -> 0.10151307 | I7: =MAX(0,C7-E7-Rekenwaarden!$B$1) -> 4.714 | J7: =MAX(0,D7-F7-Rekenwaarden!$B$1) -> 0 | K7: =B7-I7-J7 -> 17.096 | L7: =K7/B7 -> 0.78386061 | M7: =MAX(0,_xlfn.IFS(K7<Rekenwaarden!$B$1,E7-K7,K7>=Rekenwaarden!$B$1,E7-K7)) -> 0 | N7: =MAX(0,_xlfn.IFS(K7<Rekenwaarden!$B$1,F7,K7>=Rekenwaarden!$B$1,(K7-G7-E7-F7)*-1)) -> 0
A8: 43837 | B8: 3.25 | C8: 1.784 | D8: 0 | E8: 6.191 | F8: 4.026 | G8: =B8-C8-D8 -> 1.466 | H8: =G8/B8 -> 0.45107692 | I8: =MAX(0,C8-E8-Rekenwaarden!$B$1) -> 0 | J8: =MAX(0,D8-F8-Rekenwaarden!$B$1) -> 0 | K8: =B8-I8-J8 -> 3.25 | L8: =K8/B8 -> 1 | M8: =MAX(0,_xlfn.IFS(K8<Rekenwaarden!$B$1,E8-K8,K8>=Rekenwaarden!$B$1,E8-K8)) -> 2.941 | N8: =MAX(0,_xlfn.IFS(K8<Rekenwaarden!$B$1,F8,K8>=Rekenwaarden!$B$1,(K8-G8-E8-F8)*-1)) -> 4.026
A9: 43838 | B9: 0.89 | C9: 0.025 | D9: 0 | E9: 8.029 | F9: 4.458 | G9: =B9-C9-D9 -> 0.865 | H9: =G9/B9 -> 0.97191011 | I9: =MAX(0,C9-E9-Rekenwaarden!$B$1) -> 0 | J9: =MAX(0,D9-F9-Rekenwaarden!$B$1) -> 0 | K9: =B9-I9-J9 -> 0.89 | L9: =K9/B9 -> 1 | M9: =MAX(0,_xlfn.IFS(K9<Rekenwaarden!$B$1,E9-K9,K9>=Rekenwaarden!$B$1,E9-K9)) -> 7.139 | N9: =MAX(0,_xlfn.IFS(K9<Rekenwaarden!$B$1,F9,K9>=Rekenwaarden!$B$1,(K9-G9-E9-F9)*-1)) -> 4.458
A10: 43839 | B10: 0.43 | C10: 0 | D10: 0 | E10: 8.87 | F10: 3.06 | G10: =B10-C10-D10 -> 0.43 | H10: =G10/B10 -> 1 | I10: =MAX(0,C10-E10-Rekenwaarden!$B$1) -> 0 | J10: =MAX(0,D10-F10-Rekenwaarden!$B$1) -> 0 | K10: =B10-I10-J10 -> 0.43 | L10: =K10/B10 -> 1 | M10: =MAX(0,_xlfn.IFS(K10<Rekenwaarden!$B$1,E10-K10,K10>=Rekenwaarden!$B$1,E10-K10)) -> 8.44 | N10: =MAX(0,_xlfn.IFS(K10<Rekenwaarden!$B$1,F10,K10>=Rekenwaarden!$B$1,(K10-G10-E10-F10)*-1)) -> 3.06
A11: 43840 | B11: 4.38 | C11: 2.591 | D11: 0 | E11: 6.117 | F11: 3.159 | G11: =B11-C11-D11 -> 1.789 | H11: =G11/B11 -> 0.40844749 | I11: =MAX(0,C11-E11-Rekenwaarden!$B$1) -> 0 | J11: =MAX(0,D11-F11-Rekenwaarden!$B$1) -> 0 | K11: =B11-I11-J11 -> 4.38 | L11: =K11/B11 -> 1 | M11: =MAX(0,_xlfn.IFS(K11<Rekenwaarden!$B$1,E11-K11,K11>=Rekenwaarden!$B$1,E11-K11)) -> 1.737 | N11: =MAX(0,_xlfn.IFS(K11<Rekenwaarden!$B$1,F11,K11>=Rekenwaarden!$B$1,(K11-G11-E11-F11)*-1)) -> 3.159
A12: 43841 | B12: 6.17 | C12: 0 | D12: 2.192 | E12: 0 | F12: 8.315 | G12: =B12-C12-D12 -> 3.978 | H12: =G12/B12 -> 0.64473258 | I12: =MAX(0,C12-E12-Rekenwaarden!$B$1) -> 0 | J12: =MAX(0,D12-F12-Rekenwaarden!$B$1) -> 0 | K12: =B12-I12-J12 -> 6.17 | L12: =K12/B12 -> 1 | M12: =MAX(0,_xlfn.IFS(K12<Rekenwaarden!$B$1,E12-K12,K12>=Rekenwaarden!$B$1,E12-K12)) -> 0 | N12: =MAX(0,_xlfn.IFS(K12<Rekenwaarden!$B$1,F12,K12>=Rekenwaarden!$B$1,(K12-G12-E12-F12)*-1)) -> 8.315
A13: 43842 | B13: 3.68 | C13: 0 | D13: 1.797 | E13: 0 | F13: 10.225 | G13: =B13-C13-D13 -> 1.883 | H13: =G13/B13 -> 0.51168478 | I13: =MAX(0,C13-E13-Rekenwaarden!$B$1) -> 0 | J13: =MAX(0,D13-F13-Rekenwaarden!$B$1) -> 0 | K13: =B13-I13-J13 -> 3.68 | L13: =K13/B13 -> 1 | M13: =MAX(0,_xlfn.IFS(K13<Rekenwaarden!$B$1,E13-K13,K13>=Rekenwaarden!$B$1,E13-K13)) -> 0 | N13: =MAX(0,_xlfn.IFS(K13<Rekenwaarden!$B$1,F13,K13>=Rekenwaarden!$B$1,(K13-G13-E13-F13)*-1)) -> 10.225
... A367: 44196 | B367: 7.32 | C367: 3 | D367: 0 | E367: 14 | F367: 5 | G367: =B367-C367-D367 -> 4.32 | H367: =G367/B367 -> 0.59016393 | I367: =MAX(0,C367-E367-Rekenwaarden!$B$1) -> 0 | J367: =MAX(0,D367-F367-Rekenwaarden!$B$1) -> 0 | K367: =B367-I367-J367 -> 7.32 | L367: =K367/B367 -> 1 | M367: =MAX(0,_xlfn.IFS(K367<Rekenwaarden!$B$1,E367-K367,K367>=Rekenwaarden!$B$1,E367-K367)) -> 6.68 | N367: =MAX(0,_xlfn.IFS(K367<Rekenwaarden!$B$1,F367,K367>=Rekenwaarden!$B$1,(K367-G367-E367-F367)*-1)) -> 5
A368: SubTotaal: | B368: =SUM(B2:B367) -> 6578.36 | C368: =SUM(C2:C367) -> 3546.473 | D368: =SUM(D2:D367) -> 1200.095 | E368: =SUM(E2:E367) -> 1394.698 | F368: =SUM(F2:F367) -> 2342.849 | G368: =SUM(G2:G367) -> 1831.792 | H368: =AVERAGE(H2:H367) -> 0.40499758 | I368: =SUM(I2:I367) -> 1342.088 | J368: =SUM(J2:J367) -> 200.627 | K368: =SUM(K2:K367) -> 5035.645 | L368: =AVERAGE(L2:L367) -> 0.86960092 | M368: =SUM(M2:M367) -> 353.493 | N368: =SUM(N2:N367) -> 1059.119 | O368: SubTotaal:
A369: Prijs: | C369: =C368*Rekenwaarden!$B$4 -> 159.59129 | D369: =D368*Rekenwaarden!$B$5 -> 54.004275 | E369: =E368*Rekenwaarden!$B$2 -> 404.46242 | F369: =F368*Rekenwaarden!$B$3 -> 679.42621 | I369: =I368*Rekenwaarden!$B$4 -> 60.39396 | J369: =J368*Rekenwaarden!$B$5 -> 9.028215 | M369: =M368*Rekenwaarden!$B$2 -> 102.51297 | N369: =N368*Rekenwaarden!$B$3 -> 307.14451 | O369: Prijs:
A370: Te betalen/ontvangen: | D370: =SUM(C369:D369)*-1 -> -213.59556 | F370: =SUM(E369:F369) -> 1083.8886 | J370: =SUM(I369:J369)*-1 -> -69.422175 | N370: =M369+N369 -> 409.65748 | O370: Te betalen/ontvangen:
A371: Totaal: | F371: =F370+D370 -> 870.29307 | N371: =N370+J370 -> 340.23531 | O371: Totaal:

Sheet Rekenwaarden
A1: Batterij: | B1: 8.8 | C1: kWh
A2: Prijs afname dag: | B2: 0.29 | C2: Euro
A3: Prijs afname nacht: | B3: 0.29 | C3: Euro
A4: Prijs injectie dag: | B4: 0.045 | C4: Euro
A5: Prijs injectie nacht: | B5: 0.045 | C5: Euro
A7: Besparing: | B7: =Details!F371-Details!N371 -> 530.05777 | C7: Euro
A9: Prijs batterij: | B9: 3605 | C9: Euro
A10: Terugverdientijd: | B10: =B9/B7 -> 6.8011455 | C10: Jaar | D10: (minimum)

Sheet Grafieken
