Workbook

Sheet Sheet1
A1: Datum | B1: Afname Dag | C1: Afname Nacht | D1: Injectie Dag | E1: Injectie Nacht | G1: Totaal afname kWh | H1: Totaal injectie kWh | I1: Productie Wh | J1: Productie kWh | L1: Gebruikte productie kWh
A2: {=INDEX(Fluvius!$A:$A,ROW(Fluvius!$A1)*4-4+COLUMN(Fluvius!$A1))} -> 43872 | B2: {=INDEX(Fluvius!$C:$C,ROW(Fluvius!A1)*4-4+COLUMN(Fluvius!A1))} -> 0 | C2: {=INDEX(Fluvius!$C:$C,ROW(Fluvius!B1)*4-4+COLUMN(Fluvius!B1))} -> 0 | D2: {=INDEX(Fluvius!$C:$C,ROW(Fluvius!C1)*4-4+COLUMN(Fluvius!C1))} -> 0 | E2: {=INDEX(Fluvius!$C:$C,ROW(Fluvius!D1)*4-4+COLUMN(Fluvius!D1))} -> 0 | G2: =B2+C2 -> 0 | H2: =D2+E2 -> 0 | I2: 0 | J2: 0 | L2: =J2-H2 -> 0
A3: {=INDEX(Fluvius!$A:$A,ROW(Fluvius!$A2)*4-4+COLUMN(Fluvius!$A2))} -> 43873 | B3: {=INDEX(Fluvius!$C:$C,ROW(Fluvius!A2)*4-4+COLUMN(Fluvius!A2))} -> 14.652 | C3: {=INDEX(Fluvius!$C:$C,ROW(Fluvius!B2)*4-4+COLUMN(Fluvius!B2))} -> 4.873 | D3: {=INDEX(Fluvius!$C:$C,ROW(Fluvius!C2)*4-4+COLUMN(Fluvius!C2))} -> 6.558 | E3: {=INDEX(Fluvius!$C:$C,ROW(Fluvius!D2)*4-4+COLUMN(Fluvius!D2))} -> 0 | G3: =B3+C3 -> 19.525 | H3: =D3+E3 -> 6.558 | I3: 9102 | J3: =I3/1000 -> 9.102 | L3: =J3-H3 -> 2.544 | M3: =(J3-H3)/J3 -> 0.27949901
A4: {=INDEX(Fluvius!$A:$A,ROW(Fluvius!$A3)*4-4+COLUMN(Fluvius!$A3))} -> 43874 | B4: {=INDEX(Fluvius!$C:$C,ROW(Fluvius!A3)*4-4+COLUMN(Fluvius!A3))} -> 13.34 | C4: {=INDEX(Fluvius!$C:$C,ROW(Fluvius!B3)*4-4+COLUMN(Fluvius!B3))} -> 5.15 | D4: {=INDEX(Fluvius!$C:$C,ROW(Fluvius!C3)*4-4+COLUMN(Fluvius!C3))} -> 3.67 | E4: {=INDEX(Fluvius!$C:$C,ROW(Fluvius!D3)*4-4+COLUMN(Fluvius!D3))} -> 0 | G4: =B4+C4 -> 18.49 | H4: =D4+E4 -> 3.67 | I4: 5228 | J4: =I4/1000 -> 5.228 | L4: =J4-H4 -> 1.558 | M4: =(J4-H4)/J4 -> 0.29801071
A5: {=INDEX(Fluvius!$A:$A,ROW(Fluvius!$A4)*4-4+COLUMN(Fluvius!$A4))} -> 43875 | B5: {=INDEX(Fluvius!$C:$C,ROW(Fluvius!A4)*4-4+COLUMN(Fluvius!A4))} -> 10.649 | C5: {=INDEX(Fluvius!$C:$C,ROW(Fluvius!B4)*4-4+COLUMN(Fluvius!B4))} -> 4.671 | D5: {=INDEX(Fluvius!$C:$C,ROW(Fluvius!C4)*4-4+COLUMN(Fluvius!C4))} -> 3.718 | E5: {=INDEX(Fluvius!$C:$C,ROW(Fluvius!D4)*4-4+COLUMN(Fluvius!D4))} -> 0 | G5: =B5+C5 -> 15.32 | H5: =D5+E5 -> 3.718 | I5: 6401 | J5: =I5/1000 -> 6.401 | L5: =J5-H5 -> 2.683 | M5: =(J5-H5)/J5 -> 0.41915326
A6: {=INDEX(Fluvius!$A:$A,ROW(Fluvius!$A5)*4-4+COLUMN(Fluvius!$A5))} -> 43876 | B6: {=INDEX(Fluvius!$C:$C,ROW(Fluvius!A5)*4-4+COLUMN(Fluvius!A5))} -> 0 | C6: {=INDEX(Fluvius!$C:$C,ROW(Fluvius!B5)*4-4+COLUMN(Fluvius!B5))} -> 17.658 | D6: {=INDEX(Fluvius!$C:$C,ROW(Fluvius!C5)*4-4+COLUMN(Fluvius!C5))} -> 0 | E6: {=INDEX(Fluvius!$C:$C,ROW(Fluvius!D5)*4-4+COLUMN(Fluvius!D5))} -> 1.833 | G6: =B6+C6 -> 17.658 | H6: =D6+E6 -> 1.833 | I6: 4289 | J6: =I6/1000 -> 4.289 | L6: =J6-H6 -> 2.456 | M6: =(J6-H6)/J6 -> 0.57262765
A7: {=INDEX(Fluvius!$A:$A,ROW(Fluvius!$A6)*4-4+COLUMN(Fluvius!$A6))} -> 43877 | B7: {=INDEX(Fluvius!$C:$C,ROW(Fluvius!A6)*4-4+COLUMN(Fluvius!A6))} -> 0 | C7: {=INDEX(Fluvius!$C:$C,ROW(Fluvius!B6)*4-4+COLUMN(Fluvius!B6))} -> 18.182 | D7: {=INDEX(Fluvius!$C:$C,ROW(Fluvius!C6)*4-4+COLUMN(Fluvius!C6))} -> 0 | E7: {=INDEX(Fluvius!$C:$C,ROW(Fluvius!D6)*4-4+COLUMN(Fluvius!D6))} -> 1.168 | G7: =B7+C7 -> 18.182 | H7: =D7+E7 -> 1.168 | I7: 3911 | J7: =I7/1000 -> 3.911 | L7: =J7-H7 -> 2.743 | M7: =(J7-H7)/J7 -> 0.70135515
A8: {=INDEX(Fluvius!$A:$A,ROW(Fluvius!$A7)*4-4+COLUMN(Fluvius!$A7))} -> 43878 | B8: {=INDEX(Fluvius!$C:$C,ROW(Fluvius!A7)*4-4+COLUMN(Fluvius!A7))} -> 10.701 | C8: {=INDEX(Fluvius!$C:$C,ROW(Fluvius!B7)*4-4+COLUMN(Fluvius!B7))} -> 3.399 | D8: {=INDEX(Fluvius!$C:$C,ROW(Fluvius!C7)*4-4+COLUMN(Fluvius!C7))} -> 5.193 | E8: {=INDEX(Fluvius!$C:$C,ROW(Fluvius!D7)*4-4+COLUMN(Fluvius!D7))} -> 0 | G8: =B8+C8 -> 14.1 | H8: =D8+E8 -> 5.193 | I8: 8418 | J8: =I8/1000 -> 8.418 | L8: =J8-H8 -> 3.225 | M8: =(J8-H8)/J8 -> 0.38310763
A9: {=INDEX(Fluvius!$A:$A,ROW(Fluvius!$A8)*4-4+COLUMN(Fluvius!$A8))} -> 43879 | B9: {=INDEX(Fluvius!$C:$C,ROW(Fluvius!A8)*4-4+COLUMN(Fluvius!A8))} -> 9.932 | C9: {=INDEX(Fluvius!$C:$C,ROW(Fluvius!B8)*4-4+COLUMN(Fluvius!B8))} -> 6.376 | D9: {=INDEX(Fluvius!$C:$C,ROW(Fluvius!C8)*4-4+COLUMN(Fluvius!C8))} -> 4.644 | E9: {=INDEX(Fluvius!$C:$C,ROW(Fluvius!D8)*4-4+COLUMN(Fluvius!D8))} -> 0 | G9: =B9+C9 -> 16.308 | H9: =D9+E9 -> 4.644 | I9: 7175 | J9: =I9/1000 -> 7.175 | L9: =J9-H9 -> 2.531 | M9: =(J9-H9)/J9 -> 0.35275261
A10: {=INDEX(Fluvius!$A:$A,ROW(Fluvius!$A9)*4-4+COLUMN(Fluvius!$A9))} -> 43880 | B10: {=INDEX(Fluvius!$C:$C,ROW(Fluvius!A9)*4-4+COLUMN(Fluvius!A9))} -> 10.623 | C10: {=INDEX(Fluvius!$C:$C,ROW(Fluvius!B9)*4-4+COLUMN(Fluvius!B9))} -> 5.226 | D10: {=INDEX(Fluvius!$C:$C,ROW(Fluvius!C9)*4-4+COLUMN(Fluvius!C9))} -> 6.63 | E10: {=INDEX(Fluvius!$C:$C,ROW(Fluvius!D9)*4-4+COLUMN(Fluvius!D9))} -> 0 | G10: =B10+C10 -> 15.849 | H10: =D10+E10 -> 6.63 | I10: 8782 | J10: =I10/1000 -> 8.782 | L10: =J10-H10 -> 2.152 | M10: =(J10-H10)/J10 -> 0.24504669
A11: {=INDEX(Fluvius!$A:$A,ROW(Fluvius!$A10)*4-4+COLUMN(Fluvius!$A10))} -> 43881 | B11: {=INDEX(Fluvius!$C:$C,ROW(Fluvius!A10)*4-4+COLUMN(Fluvius!A10))} -> 17.431 | C11: {=INDEX(Fluvius!$C:$C,ROW(Fluvius!B10)*4-4+COLUMN(Fluvius!B10))} -> 8.973 | D11: {=INDEX(Fluvius!$C:$C,ROW(Fluvius!C10)*4-4+COLUMN(Fluvius!C10))} -> 1.831 | E11: {=INDEX(Fluvius!$C:$C,ROW(Fluvius!D10)*4-4+COLUMN(Fluvius!D10))} -> 0 | G11: =B11+C11 -> 26.404 | H11: =D11+E11 -> 1.831 | I11: 3865 | J11: =I11/1000 -> 3.865 | L11: =J11-H11 -> 2.034 | M11: =(J11-H11)/J11 -> 0.52626132
A12: {=INDEX(Fluvius!$A:$A,ROW(Fluvius!$A11)*4-4+COLUMN(Fluvius!$A11))} -> 43882 | B12: {=INDEX(Fluvius!$C:$C,ROW(Fluvius!A11)*4-4+COLUMN(Fluvius!A11))} -> 9.422 | C12: {=INDEX(Fluvius!$C:$C,ROW(Fluvius!B11)*4-4+COLUMN(Fluvius!B11))} -> 3.581 | D12: {=INDEX(Fluvius!$C:$C,ROW(Fluvius!C11)*4-4+COLUMN(Fluvius!C11))} -> 5.556 | E12: {=INDEX(Fluvius!$C:$C,ROW(Fluvius!D11)*4-4+COLUMN(Fluvius!D11))} -> 0 | G12: =B12+C12 -> 13.003 | H12: =D12+E12 -> 5.556 | I12: 7614 | J12: =I12/1000 -> 7.614 | L12: =J12-H12 -> 2.058 | M12: =(J12-H12)/J12 -> 0.27029157
A13: {=INDEX(Fluvius!$A:$A,ROW(Fluvius!$A12)*4-4+COLUMN(Fluvius!$A12))} -> 43883 | B13: {=INDEX(Fluvius!$C:$C,ROW(Fluvius!A12)*4-4+COLUMN(Fluvius!A12))} -> 0 | C13: {=INDEX(Fluvius!$C:$C,ROW(Fluvius!B12)*4-4+COLUMN(Fluvius!B12))} -> 30.166 | D13: {=INDEX(Fluvius!$C:$C,ROW(Fluvius!C12)*4-4+COLUMN(Fluvius!C12))} -> 0 | E13: {=INDEX(Fluvius!$C:$C,ROW(Fluvius!D12)*4-4+COLUMN(Fluvius!D12))} -> 0.53 | G13: =B13+C13 -> 30.166 | H13: =D13+E13 -> 0.53 | I13: 2139 | J13: =I13/1000 -> 2.139 | L13: =J13-H13 -> 1.609 | M13: =(J13-H13)/J13 -> 0.75222066
A14: {=INDEX(Fluvius!$A:$A,ROW(Fluvius!$A13)*4-4+COLUMN(Fluvius!$A13))} -> 43884 | B14: {=INDEX(Fluvius!$C:$C,ROW(Fluvius!A13)*4-4+COLUMN(Fluvius!A13))} -> 0 | C14: {=INDEX(Fluvius!$C:$C,ROW(Fluvius!B13)*4-4+COLUMN(Fluvius!B13))} -> 14.752 | D14: {=INDEX(Fluvius!$C:$C,ROW(Fluvius!C13)*4-4+COLUMN(Fluvius!C13))} -> 0 | E14: {=INDEX(Fluvius!$C:$C,ROW(Fluvius!D13)*4-4+COLUMN(Fluvius!D13))} -> 0.011 | G14: =B14+C14 -> 14.752 | H14: =D14+E14 -> 0.011 | I14: 1020 | J14: =I14/1000 -> 1.02 | L14: =J14-H14 -> 1.009 | M14: =(J14-H14)/J14 -> 0.98921569
... A330: {=INDEX(Fluvius!$A:$A,ROW(Fluvius!$A329)*4-4+COLUMN(Fluvius!$A329))} -> 44200 | B330: {=INDEX(Fluvius!$C:$C,ROW(Fluvius!A329)*4-4+COLUMN(Fluvius!A329))} -> 13.52 | C330: {=INDEX(Fluvius!$C:$C,ROW(Fluvius!B329)*4-4+COLUMN(Fluvius!B329))} -> 5.084 | D330: {=INDEX(Fluvius!$C:$C,ROW(Fluvius!C329)*4-4+COLUMN(Fluvius!C329))} -> 0 | E330: {=INDEX(Fluvius!$C:$C,ROW(Fluvius!D329)*4-4+COLUMN(Fluvius!D329))} -> 0 | G330: =B330+C330 -> 18.604 | H330: =D330+E330 -> 0 | I330: 447 | J330: =I330/1000 -> 0.447 | L330: =J330-H330 -> 0.447 | M330: =(J330-H330)/J330 -> 1
A331: {=INDEX(Fluvius!$A:$A,ROW(Fluvius!$A330)*4-4+COLUMN(Fluvius!$A330))} -> 44201 | B331: {=INDEX(Fluvius!$C:$C,ROW(Fluvius!A330)*4-4+COLUMN(Fluvius!A330))} -> 11.368 | C331: {=INDEX(Fluvius!$C:$C,ROW(Fluvius!B330)*4-4+COLUMN(Fluvius!B330))} -> 6.381 | D331: {=INDEX(Fluvius!$C:$C,ROW(Fluvius!C330)*4-4+COLUMN(Fluvius!C330))} -> 0 | E331: {=INDEX(Fluvius!$C:$C,ROW(Fluvius!D330)*4-4+COLUMN(Fluvius!D330))} -> 0 | G331: =B331+C331 -> 17.749 | H331: =D331+E331 -> 0 | I331: 0 | J331: =I331/1000 -> 0 | L331: =J331-H331 -> 0 | M331: 0
A332: {=INDEX(Fluvius!$A:$A,ROW(Fluvius!$A331)*4-4+COLUMN(Fluvius!$A331))} -> 44202 | B332: {=INDEX(Fluvius!$C:$C,ROW(Fluvius!A331)*4-4+COLUMN(Fluvius!A331))} -> 12.584 | C332: {=INDEX(Fluvius!$C:$C,ROW(Fluvius!B331)*4-4+COLUMN(Fluvius!B331))} -> 4.525 | D332: {=INDEX(Fluvius!$C:$C,ROW(Fluvius!C331)*4-4+COLUMN(Fluvius!C331))} -> 0 | E332: {=INDEX(Fluvius!$C:$C,ROW(Fluvius!D331)*4-4+COLUMN(Fluvius!D331))} -> 0 | G332: =B332+C332 -> 17.109 | H332: =D332+E332 -> 0 | I332: 1202 | J332: =I332/1000 -> 1.202 | L332: =J332-H332 -> 1.202 | M332: =(J332-H332)/J332 -> 1
A333: {=INDEX(Fluvius!$A:$A,ROW(Fluvius!$A332)*4-4+COLUMN(Fluvius!$A332))} -> 44203 | B333: {=INDEX(Fluvius!$C:$C,ROW(Fluvius!A332)*4-4+COLUMN(Fluvius!A332))} -> 12.546 | C333: {=INDEX(Fluvius!$C:$C,ROW(Fluvius!B332)*4-4+COLUMN(Fluvius!B332))} -> 6.605 | D333: {=INDEX(Fluvius!$C:$C,ROW(Fluvius!C332)*4-4+COLUMN(Fluvius!C332))} -> 0.204 | E333: {=INDEX(Fluvius!$C:$C,ROW(Fluvius!D332)*4-4+COLUMN(Fluvius!D332))} -> 0 | G333: =B333+C333 -> 19.151 | H333: =D333+E333 -> 0.204 | I333: 2546 | J333: =I333/1000 -> 2.546 | L333: =J333-H333 -> 2.342 | M333: =(J333-H333)/J333 -> 0.91987431
A334: {=INDEX(Fluvius!$A:$A,ROW(Fluvius!$A333)*4-4+COLUMN(Fluvius!$A333))} -> 44204 | B334: {=INDEX(Fluvius!$C:$C,ROW(Fluvius!A333)*4-4+COLUMN(Fluvius!A333))} -> 8.217 | C334: {=INDEX(Fluvius!$C:$C,ROW(Fluvius!B333)*4-4+COLUMN(Fluvius!B333))} -> 5.096 | D334: {=INDEX(Fluvius!$C:$C,ROW(Fluvius!C333)*4-4+COLUMN(Fluvius!C333))} -> 0.335 | E334: {=INDEX(Fluvius!$C:$C,ROW(Fluvius!D333)*4-4+COLUMN(Fluvius!D333))} -> 0 | G334: =B334+C334 -> 13.313 | H334: =D334+E334 -> 0.335 | I334: 2162 | J334: =I334/1000 -> 2.162 | L334: =J334-H334 -> 1.827 | M334: =(J334-H334)/J334 -> 0.84505088
A335: {=INDEX(Fluvius!$A:$A,ROW(Fluvius!$A334)*4-4+COLUMN(Fluvius!$A334))} -> 44205 | B335: {=INDEX(Fluvius!$C:$C,ROW(Fluvius!A334)*4-4+COLUMN(Fluvius!A334))} -> 0 | C335: {=INDEX(Fluvius!$C:$C,ROW(Fluvius!B334)*4-4+COLUMN(Fluvius!B334))} -> 15.402 | D335: {=INDEX(Fluvius!$C:$C,ROW(Fluvius!C334)*4-4+COLUMN(Fluvius!C334))} -> 0 | E335: {=INDEX(Fluvius!$C:$C,ROW(Fluvius!D334)*4-4+COLUMN(Fluvius!D334))} -> 2.33 | G335: =B335+C335 -> 15.402 | H335: =D335+E335 -> 2.33 | I335: 4923 | J335: =I335/1000 -> 4.923 | L335: =J335-H335 -> 2.593 | M335: =(J335-H335)/J335 -> 0.52671135
A336: {=INDEX(Fluvius!$A:$A,ROW(Fluvius!$A335)*4-4+COLUMN(Fluvius!$A335))} -> 44206 | B336: {=INDEX(Fluvius!$C:$C,ROW(Fluvius!A335)*4-4+COLUMN(Fluvius!A335))} -> 0 | C336: {=INDEX(Fluvius!$C:$C,ROW(Fluvius!B335)*4-4+COLUMN(Fluvius!B335))} -> 0 | D336: {=INDEX(Fluvius!$C:$C,ROW(Fluvius!C335)*4-4+COLUMN(Fluvius!C335))} -> 0 | E336: {=INDEX(Fluvius!$C:$C,ROW(Fluvius!D335)*4-4+COLUMN(Fluvius!D335))} -> 1.086 | G336: =B336+C336 -> 0 | H336: =D336+E336 -> 1.086 | I336: 5464 | J336: =I336/1000 -> 5.464 | L336: =J336-H336 -> 4.378 | M336: =(J336-H336)/J336 -> 0.80124451
A337: {=INDEX(Fluvius!$A:$A,ROW(Fluvius!$A336)*4-4+COLUMN(Fluvius!$A336))} -> 44207 | B337: {=INDEX(Fluvius!$C:$C,ROW(Fluvius!A336)*4-4+COLUMN(Fluvius!A336))} -> 16.886 | C337: {=INDEX(Fluvius!$C:$C,ROW(Fluvius!B336)*4-4+COLUMN(Fluvius!B336))} -> 7.145 | D337: {=INDEX(Fluvius!$C:$C,ROW(Fluvius!C336)*4-4+COLUMN(Fluvius!C336))} -> 0.084 | E337: {=INDEX(Fluvius!$C:$C,ROW(Fluvius!D336)*4-4+COLUMN(Fluvius!D336))} -> 0 | G337: =B337+C337 -> 24.031 | H337: =D337+E337 -> 0.084 | I337: 1237 | J337: =I337/1000 -> 1.237 | L337: =J337-H337 -> 1.153 | M337: =(J337-H337)/J337 -> 0.93209378
A338: {=INDEX(Fluvius!$A:$A,ROW(Fluvius!$A337)*4-4+COLUMN(Fluvius!$A337))} -> 44208 | B338: {=INDEX(Fluvius!$C:$C,ROW(Fluvius!A337)*4-4+COLUMN(Fluvius!A337))} -> 7.81 | C338: {=INDEX(Fluvius!$C:$C,ROW(Fluvius!B337)*4-4+COLUMN(Fluvius!B337))} -> 4.416 | D338: {=INDEX(Fluvius!$C:$C,ROW(Fluvius!C337)*4-4+COLUMN(Fluvius!C337))} -> 0.571 | E338: {=INDEX(Fluvius!$C:$C,ROW(Fluvius!D337)*4-4+COLUMN(Fluvius!D337))} -> 0 | G338: =B338+C338 -> 12.226 | H338: =D338+E338 -> 0.571 | I338: 2922 | J338: =I338/1000 -> 2.922 | L338: =J338-H338 -> 2.351 | M338: =(J338-H338)/J338 -> 0.8045859
A339: {=INDEX(Fluvius!$A:$A,ROW(Fluvius!$A338)*4-4+COLUMN(Fluvius!$A338))} -> 44209 | B339: {=INDEX(Fluvius!$C:$C,ROW(Fluvius!A338)*4-4+COLUMN(Fluvius!A338))} -> 14.47 | C339: {=INDEX(Fluvius!$C:$C,ROW(Fluvius!B338)*4-4+COLUMN(Fluvius!B338))} -> 5.266 | D339: {=INDEX(Fluvius!$C:$C,ROW(Fluvius!C338)*4-4+COLUMN(Fluvius!C338))} -> 0.549 | E339: {=INDEX(Fluvius!$C:$C,ROW(Fluvius!D338)*4-4+COLUMN(Fluvius!D338))} -> 0 | G339: =B339+C339 -> 19.736 | H339: =D339+E339 -> 0.549 | I339: 2592 | J339: =I339/1000 -> 2.592 | L339: =J339-H339 -> 2.043 | M339: =(J339-H339)/J339 -> 0.78819444
A340: {=INDEX(Fluvius!$A:$A,ROW(Fluvius!$A339)*4-4+COLUMN(Fluvius!$A339))} -> 44210 | B340: {=INDEX(Fluvius!$C:$C,ROW(Fluvius!A339)*4-4+COLUMN(Fluvius!A339))} -> 13.925 | C340: {=INDEX(Fluvius!$C:$C,ROW(Fluvius!B339)*4-4+COLUMN(Fluvius!B339))} -> 4.184 | D340: {=INDEX(Fluvius!$C:$C,ROW(Fluvius!C339)*4-4+COLUMN(Fluvius!C339))} -> 0 | E340: {=INDEX(Fluvius!$C:$C,ROW(Fluvius!D339)*4-4+COLUMN(Fluvius!D339))} -> 0 | G340: =B340+C340 -> 18.109 | H340: =D340+E340 -> 0 | I340: 791 | J340: =I340/1000 -> 0.791 | L340: =J340-H340 -> 0.791 | M340: =(J340-H340)/J340 -> 1
A341: {=INDEX(Fluvius!$A:$A,ROW(Fluvius!$A340)*4-4+COLUMN(Fluvius!$A340))} -> 44211 | B341: {=INDEX(Fluvius!$C:$C,ROW(Fluvius!A340)*4-4+COLUMN(Fluvius!A340))} -> 9.407 | C341: {=INDEX(Fluvius!$C:$C,ROW(Fluvius!B340)*4-4+COLUMN(Fluvius!B340))} -> 5.362 | D341: {=INDEX(Fluvius!$C:$C,ROW(Fluvius!C340)*4-4+COLUMN(Fluvius!C340))} -> 0.007 | E341: {=INDEX(Fluvius!$C:$C,ROW(Fluvius!D340)*4-4+COLUMN(Fluvius!D340))} -> 0 | G341: =B341+C341 -> 14.769 | H341: =D341+E341 -> 0.007 | I341: 1497 | J341: =I341/1000 -> 1.497 | L341: =J341-H341 -> 1.49 | M341: =(J341-H341)/J341 -> 0.99532398
A342: {=INDEX(Fluvius!$A:$A,ROW(Fluvius!$A341)*4-4+COLUMN(Fluvius!$A341))} -> 44212 | B342: {=INDEX(Fluvius!$C:$C,ROW(Fluvius!A341)*4-4+COLUMN(Fluvius!A341))} -> 0 | C342: {=INDEX(Fluvius!$C:$C,ROW(Fluvius!B341)*4-4+COLUMN(Fluvius!B341))} -> 20.423 | D342: {=INDEX(Fluvius!$C:$C,ROW(Fluvius!C341)*4-4+COLUMN(Fluvius!C341))} -> 0 | E342: {=INDEX(Fluvius!$C:$C,ROW(Fluvius!D341)*4-4+COLUMN(Fluvius!D341))} -> 0.017 | G342: =B342+C342 -> 20.423 | H342: =D342+E342 -> 0.017 | I342: 630 | J342: =I342/1000 -> 0.63 | L342: =J342-H342 -> 0.613 | M342: =(J342-H342)/J342 -> 0.97301587
A343: {=INDEX(Fluvius!$A:$A,ROW(Fluvius!$A342)*4-4+COLUMN(Fluvius!$A342))} -> 44213 | B343: {=INDEX(Fluvius!$C:$C,ROW(Fluvius!A342)*4-4+COLUMN(Fluvius!A342))} -> 0 | C343: {=INDEX(Fluvius!$C:$C,ROW(Fluvius!B342)*4-4+COLUMN(Fluvius!B342))} -> 19.377 | D343: {=INDEX(Fluvius!$C:$C,ROW(Fluvius!C342)*4-4+COLUMN(Fluvius!C342))} -> 0 | E343: {=INDEX(Fluvius!$C:$C,ROW(Fluvius!D342)*4-4+COLUMN(Fluvius!D342))} -> 0.173 | G343: =B343+C343 -> 19.377 | H343: =D343+E343 -> 0.173 | I343: 2301 | J343: =I343/1000 -> 2.301 | L343: =J343-H343 -> 2.128 | M343: =(J343-H343)/J343 -> 0.9248153
... A352: {=INDEX(Fluvius!$A:$A,ROW(Fluvius!$A351)*4-4+COLUMN(Fluvius!$A351))} -> 44222 | B352: {=INDEX(Fluvius!$C:$C,ROW(Fluvius!A351)*4-4+COLUMN(Fluvius!A351))} -> 15.576 | C352: {=INDEX(Fluvius!$C:$C,ROW(Fluvius!B351)*4-4+COLUMN(Fluvius!B351))} -> 4.456 | D352: {=INDEX(Fluvius!$C:$C,ROW(Fluvius!C351)*4-4+COLUMN(Fluvius!C351))} -> 0.913 | E352: {=INDEX(Fluvius!$C:$C,ROW(Fluvius!D351)*4-4+COLUMN(Fluvius!D351))} -> 0 | G352: =B352+C352 -> 20.032 | H352: =D352+E352 -> 0.913 | I352: 6315 | J352: =I352/1000 -> 6.315 | L352: =J352-H352 -> 5.402 | M352: =(J352-H352)/J352 -> 0.85542359
A353: {=INDEX(Fluvius!$A:$A,ROW(Fluvius!$A352)*4-4+COLUMN(Fluvius!$A352))} -> 44223 | B353: {=INDEX(Fluvius!$C:$C,ROW(Fluvius!A352)*4-4+COLUMN(Fluvius!A352))} -> 9.057 | C353: {=INDEX(Fluvius!$C:$C,ROW(Fluvius!B352)*4-4+COLUMN(Fluvius!B352))} -> 4.661 | D353: {=INDEX(Fluvius!$C:$C,ROW(Fluvius!C352)*4-4+COLUMN(Fluvius!C352))} -> 0.009 | E353: {=INDEX(Fluvius!$C:$C,ROW(Fluvius!D352)*4-4+COLUMN(Fluvius!D352))} -> 0
G354: =SUM(G2:G352) -> 4233.5 | H354: =SUM(H2:H352) -> 2907.354 | I354: =SUM(I2:I352) -> 4697313 | J354: =SUM(J2:J352) -> 4697.313 | L354: =SUM(L2:L352) -> 1789.959 | M354: =(J354-H354)/J354 -> 0.38106019
G356: =G354*0.25 -> 1058.375 | H356: =H354*0.04 -> 116.29416 | I356: =G356-H356 -> 942.08084
I358: 346.2
I360: =I356-I358 -> 595.88084

Sheet Fluvius
A1: 43872 | B1: Afname Dag | C1: 0
A2: 43872 | B2: Afname Nacht | C2: 0
A3: 43872 | B3: Injectie Dag | C3: 0
A4: 43872 | B4: Injectie Nacht | C4: 0
A5: 43873 | B5: Afname Dag | C5: 14.652
A6: 43873 | B6: Afname Nacht | C6: 4.873
A7: 43873 | B7: Injectie Dag | C7: 6.558
A8: 43873 | B8: Injectie Nacht | C8: 0
A9: 43874 | B9: Afname Dag | C9: 13.34
A10: 43874 | B10: Afname Nacht | C10: 5.15
A11: 43874 | B11: Injectie Dag | C11: 3.67
A12: 43874 | B12: Injectie Nacht | C12: 0
... A1336: 44205 | B1336: Injectie Nacht | C1336: 2.33
A1337: 44206 | B1337: Afname Dag
A1338: 44206 | B1338: Afname Nacht
A1339: 44206 | B1339: Injectie Dag | C1339: 0
A1340: 44206 | B1340: Injectie Nacht | C1340: 1.086
A1341: 44207 | B1341: Afname Dag | C1341: 16.886
A1342: 44207 | B1342: Afname Nacht | C1342: 7.145
A1343: 44207 | B1343: Injectie Dag | C1343: 0.084
A1344: 44207 | B1344: Injectie Nacht | C1344: 0
A1345: 44208 | B1345: Afname Dag | C1345: 7.81
A1346: 44208 | B1346: Afname Nacht | C1346: 4.416
A1347: 44208 | B1347: Injectie Dag | C1347: 0.571
A1348: 44208 | B1348: Injectie Nacht | C1348: 0
A1349: 44209 | B1349: Afname Dag | C1349: 14.47
A1350: 44209 | B1350: Afname Nacht | C1350: 5.266
... A1408: 44223 | B1408: Injectie Nacht | C1408: 0
