Workbook

Sheet INVOERBLAD
A1: MUZIEK- en FILMQUIZ "De Varens" 2018
B3: PLOEGEN | C3: R 1 | D3: R 2 | E3: R 3 | F3: R 4 | G3: R5 | I3: Bonus | J3: SUBT | K3: R6 | L3: R7 | M3: R8 | N3: R9 | O3: R10 | P3: Bonus | Q3: SUBT | R3: FR 1 | S3: FR 2 | T3: FR 3 | U3: FR 4 | V3: FR 5 | W3: DR | X3: SUBT | Y3: RDR | Z3: Totaal
A5: 1 | J5: =SUM(C5:I5) -> 0 | Q5: =SUM(K5:P5) -> 0 | X5: =SUM(R5:W5) -> 0 | Z5: =SUM(J5,Q5,X5,Y5) -> 0
A6: 2 | J6: =SUM(C6:I6) -> 0 | Q6: =SUM(K6:P6) -> 0 | X6: =SUM(R6:W6) -> 0 | Z6: =SUM(J6,Q6,X6,Y6) -> 0
A7: 3 | J7: =SUM(C7:I7) -> 0 | Q7: =SUM(K7:P7) -> 0 | X7: =SUM(R7:W7) -> 0 | Z7: =SUM(J7,Q7,X7,Y7) -> 0
A8: 4 | J8: =SUM(C8:I8) -> 0 | Q8: =SUM(K8:P8) -> 0 | X8: =SUM(R8:W8) -> 0 | Z8: =SUM(J8,Q8,X8,Y8) -> 0
A9: 5 | J9: =SUM(C9:I9) -> 0 | Q9: =SUM(K9:P9) -> 0 | X9: =SUM(R9:W9) -> 0 | Z9: =SUM(J9,Q9,X9,Y9) -> 0
A10: 6 | J10: =SUM(C10:I10) -> 0 | Q10: =SUM(K10:P10) -> 0 | X10: =SUM(R10:W10) -> 0 | Z10: =SUM(J10,Q10,X10,Y10) -> 0
A11: 7 | J11: =SUM(C11:I11) -> 0 | Q11: =SUM(K11:P11) -> 0 | X11: =SUM(R11:W11) -> 0 | Z11: =SUM(J11,Q11,X11,Y11) -> 0
A12: 8 | J12: =SUM(C12:I12) -> 0 | Q12: =SUM(K12:P12) -> 0 | X12: =SUM(R12:W12) -> 0 | Z12: =SUM(J12,Q12,X12,Y12) -> 0
A13: 9 | J13: =SUM(C13:I13) -> 0 | Q13: =SUM(K13:P13) -> 0 | X13: =SUM(R13:W13) -> 0 | Z13: =SUM(J13,Q13,X13,Y13) -> 0
A14: 10 | J14: =SUM(C14:I14) -> 0 | Q14: =SUM(K14:P14) -> 0 | X14: =SUM(R14:W14) -> 0 | Z14: =SUM(J14,Q14,X14,Y14) -> 0
A15: 11 | J15: =SUM(C15:I15) -> 0 | Q15: =SUM(K15:P15) -> 0 | X15: =SUM(R15:W15) -> 0 | Z15: =SUM(J15,Q15,X15,Y15) -> 0
A16: 12 | J16: =SUM(C16:I16) -> 0 | Q16: =SUM(K16:P16) -> 0 | X16: =SUM(R16:W16) -> 0 | Z16: =SUM(J16,Q16,X16,Y16) -> 0
... A24: 20 | J24: =SUM(C24:I24) -> 0 | Q24: =SUM(K24:P24) -> 0 | X24: =SUM(R24:W24) -> 0 | Z24: =SUM(J24,Q24,X24,Y24) -> 0

Sheet PRESENTATIE
B1: MUZIEK- en FILMQUIZ "De Varens" 2015
D3: PLOEGEN | E3: Totaal
C4: 1 | D4: =INVOERBLAD!$B$5 -> 0 | E4: =SUM(INVOERBLAD!$Z$5) -> 0
C5: 2 | D5: =INVOERBLAD!$B$6 -> 0 | E5: =SUM(INVOERBLAD!$Z$6) -> 0
C6: 3 | D6: =INVOERBLAD!$B$7 -> 0 | E6: =SUM(INVOERBLAD!$Z$7) -> 0
C7: 4 | D7: =INVOERBLAD!$B$8 -> 0 | E7: =SUM(INVOERBLAD!$Z$8) -> 0
C8: 5 | D8: =INVOERBLAD!$B$9 -> 0 | E8: =SUM(INVOERBLAD!$Z$9) -> 0
C9: 6 | D9: =INVOERBLAD!$B$10 -> 0 | E9: =SUM(INVOERBLAD!$Z$10) -> 0
C10: 7 | D10: =INVOERBLAD!$B$11 -> 0 | E10: =SUM(INVOERBLAD!$Z$11) -> 0
C11: 8 | D11: =INVOERBLAD!$B$12 -> 0 | E11: =SUM(INVOERBLAD!$Z$12) -> 0
C12: 9 | D12: =INVOERBLAD!$B$13 -> 0 | E12: =SUM(INVOERBLAD!$Z$13) -> 0
C13: 10 | D13: =INVOERBLAD!$B$14 -> 0 | E13: =SUM(INVOERBLAD!$Z$14) -> 0
C14: 11 | D14: =INVOERBLAD!$B$15 -> 0 | E14: =SUM(INVOERBLAD!$Z$15) -> 0
C15: 12 | D15: =INVOERBLAD!$B$16 -> 0 | E15: =SUM(INVOERBLAD!$Z$16) -> 0
C16: 13 | D16: =INVOERBLAD!$B$17 -> 0 | E16: =SUM(INVOERBLAD!$Z$17) -> 0
C17: 14 | D17: =INVOERBLAD!$B$18 -> 0 | E17: =SUM(INVOERBLAD!$Z$18) -> 0
C18: 15 | D18: =INVOERBLAD!$B$19 -> 0 | E18: =SUM(INVOERBLAD!$Z$19) -> 0
C19: 16 | D19: =INVOERBLAD!$B$20 -> 0 | E19: =SUM(INVOERBLAD!$Z$20) -> 0
C20: 17 | D20: =INVOERBLAD!$B$21 -> 0 | E20: =SUM(INVOERBLAD!$Z$21) -> 0
C21: 18 | D21: =INVOERBLAD!$B$22 -> 0 | E21: =SUM(INVOERBLAD!$Z$22) -> 0
C22: 19 | D22: =INVOERBLAD!$B$23 -> 0 | E22: =SUM(INVOERBLAD!$Z$23) -> 0
C23: 20 | D23: =INVOERBLAD!$B$24 -> 0 | E23: =SUM(INVOERBLAD!$Z$24) -> 0
